BEGIN:VCALENDAR
VERSION:2.0
PRODID:-//eventon.com NONSGML v1.0//EN
CALSCALE:GREGORIAN
METHOD:PUBLISH
BEGIN:VEVENT
UID:69e6cd9a8d325
DTSTAMP:20260421T010634Z
DTSTART:20250323T170000Z
DTEND:20250323T210000Z
LOCATION:
SUMMARY:Handover and Discussion
DESCRIPTION:"Lhaso Fyafulla! The outgoing executive committee of the TAMANG
  SOCIETY OF AMERICA cordially requests your presence at the following date\
 ,  location\,  and time for a handover and discussion on various matters wi
 th the newly elected executive committee. Agenda: &nbsp;* Handover related 
 matters. &nbsp;* Matters related to celebrating TSA's establishment day.[..
 ]\nhttps://tamangsocietyofamerica.org/events/handover-and-discussion/
URL:https://tamangsocietyofamerica.org/events/handover-and-discussion/
END:VEVENT
END:VCALENDAR